Package: Rbec Version: 1.14.0 Command: /home/biocbuild/R/R/bin/R CMD INSTALL Rbec StartedAt: 2025-02-03 20:49:13 -0000 (Mon, 03 Feb 2025) EndedAt: 2025-02-03 20:49:23 -0000 (Mon, 03 Feb 2025) EllapsedTime: 9.9 seconds RetCode: 1 Status: ERROR