Package: Rbowtie Version: 1.46.0 Command: /Library/Frameworks/R.framework/Resources/bin/R CMD build --keep-empty-dirs --no-resave-data Rbowtie StartedAt: 2025-02-04 06:17:27 -0500 (Tue, 04 Feb 2025) EndedAt: 2025-02-04 06:19:02 -0500 (Tue, 04 Feb 2025) EllapsedTime: 94.4 seconds RetCode: 0 Status: OK PackageFile: Rbowtie_1.46.0.tar.gz PackageFileSize: 4.917 MiB