Package: Rbowtie Version: 1.46.0 Command: /Library/Frameworks/R.framework/Resources/bin/R CMD check --install=check:Rbowtie.install-out.txt --library=/Library/Frameworks/R.framework/Resources/library --no-vignettes --timings Rbowtie_1.46.0.tar.gz StartedAt: 2025-02-05 06:46:35 -0500 (Wed, 05 Feb 2025) EndedAt: 2025-02-05 06:47:03 -0500 (Wed, 05 Feb 2025) EllapsedTime: 28.2 seconds RetCode: 0 Status: WARNINGS CheckDir: Rbowtie.Rcheck Warnings: 1