Package: Rbowtie Version: 1.46.0 Command: rm -rf Rbowtie.buildbin-libdir && mkdir Rbowtie.buildbin-libdir && /Users/biocbuild/BBS/utils/build-universal.sh Rbowtie_1.46.0.tar.gz /Library/Frameworks/R.framework/Resources/bin/R Rbowtie.buildbin-libdir StartedAt: 2025-02-04 13:55:25 -0500 (Tue, 04 Feb 2025) EndedAt: 2025-02-04 14:00:01 -0500 (Tue, 04 Feb 2025) EllapsedTime: 275.3 seconds RetCode: 0 Status: OK PackageFile: Rbowtie_1.46.0.tgz PackageFileSize: 1.277 MiB