Package: Rbowtie Version: 1.46.0 Command: /Library/Frameworks/R.framework/Resources/bin/R CMD build --keep-empty-dirs --no-resave-data Rbowtie StartedAt: 2025-02-03 21:33:53 -0500 (Mon, 03 Feb 2025) EndedAt: 2025-02-03 21:36:59 -0500 (Mon, 03 Feb 2025) EllapsedTime: 186.4 seconds RetCode: 0 Status: OK PackageFile: Rbowtie_1.46.0.tar.gz PackageFileSize: 4.997 MiB