Package: Rbowtie Version: 1.46.0 Command: /home/biocbuild/bbs-3.20-bioc/R/bin/R CMD INSTALL Rbowtie StartedAt: 2025-02-03 15:16:11 -0500 (Mon, 03 Feb 2025) EndedAt: 2025-02-03 15:17:35 -0500 (Mon, 03 Feb 2025) EllapsedTime: 84.1 seconds RetCode: 0 Status: OK