Package: Rbowtie Version: 1.46.0 Command: F:\biocbuild\bbs-3.20-bioc\R\bin\R.exe CMD check --no-multiarch --install=check:Rbowtie.install-out.txt --library=F:\biocbuild\bbs-3.20-bioc\R\library --no-vignettes --timings Rbowtie_1.46.0.tar.gz StartedAt: 2025-02-04 05:19:11 -0500 (Tue, 04 Feb 2025) EndedAt: 2025-02-04 05:20:01 -0500 (Tue, 04 Feb 2025) EllapsedTime: 50.1 seconds RetCode: 0 Status: OK CheckDir: Rbowtie.Rcheck Warnings: 0