Package: Rbowtie Version: 1.46.0 Command: /home/biocbuild/R/R/bin/R CMD build --keep-empty-dirs --no-resave-data Rbowtie StartedAt: 2025-02-04 02:06:27 -0000 (Tue, 04 Feb 2025) EndedAt: 2025-02-04 02:08:39 -0000 (Tue, 04 Feb 2025) EllapsedTime: 132.1 seconds RetCode: 0 Status: OK PackageFile: Rbowtie_1.46.0.tar.gz PackageFileSize: 968.8 KiB