Package: Rbowtie Version: 1.46.0 Command: /home/biocbuild/R/R/bin/R CMD check --install=check:Rbowtie.install-out.txt --library=/home/biocbuild/R/R/site-library --no-vignettes --timings Rbowtie_1.46.0.tar.gz StartedAt: 2025-02-11 09:34:55 -0000 (Tue, 11 Feb 2025) EndedAt: 2025-02-11 09:35:15 -0000 (Tue, 11 Feb 2025) EllapsedTime: 20.1 seconds RetCode: 0 Status: OK CheckDir: Rbowtie.Rcheck Warnings: 0