Package: Rbowtie Version: 1.46.0 Command: /home/biocbuild/R/R/bin/R CMD INSTALL Rbowtie StartedAt: 2025-02-03 20:25:05 -0000 (Mon, 03 Feb 2025) EndedAt: 2025-02-03 20:27:29 -0000 (Mon, 03 Feb 2025) EllapsedTime: 143.9 seconds RetCode: 0 Status: OK