Package: Rbowtie2 Version: 2.12.3 Command: rm -rf Rbowtie2.buildbin-libdir && mkdir Rbowtie2.buildbin-libdir && /Users/biocbuild/BBS/utils/build-universal.sh Rbowtie2_2.12.3.tar.gz /Library/Frameworks/R.framework/Resources/bin/R Rbowtie2.buildbin-libdir StartedAt: 2025-02-05 17:18:20 -0500 (Wed, 05 Feb 2025) EndedAt: 2025-02-05 17:22:18 -0500 (Wed, 05 Feb 2025) EllapsedTime: 238.2 seconds RetCode: 0 Status: OK PackageFile: Rbowtie2_2.12.3.tgz PackageFileSize: 1.843 MiB