Package: Rbowtie2 Version: 2.12.3 Command: /Library/Frameworks/R.framework/Resources/bin/R CMD check --install=check:Rbowtie2.install-out.txt --library=/Library/Frameworks/R.framework/Resources/library --no-vignettes --timings Rbowtie2_2.12.3.tar.gz StartedAt: 2025-02-05 06:46:42 -0500 (Wed, 05 Feb 2025) EndedAt: 2025-02-05 06:47:19 -0500 (Wed, 05 Feb 2025) EllapsedTime: 36.2 seconds RetCode: 0 Status: OK CheckDir: Rbowtie2.Rcheck Warnings: 0