Package: Rbowtie2 Version: 2.12.3 Command: /Library/Frameworks/R.framework/Resources/bin/R CMD check --install=check:Rbowtie2.install-out.txt --library=/Library/Frameworks/R.framework/Resources/library --no-vignettes --timings Rbowtie2_2.12.3.tar.gz StartedAt: 2025-01-31 08:39:01 -0500 (Fri, 31 Jan 2025) EndedAt: 2025-01-31 08:40:03 -0500 (Fri, 31 Jan 2025) EllapsedTime: 62.4 seconds RetCode: 0 Status: OK CheckDir: Rbowtie2.Rcheck Warnings: 0