Package: Rbowtie2 Version: 2.12.3 Command: /Library/Frameworks/R.framework/Resources/bin/R CMD INSTALL Rbowtie2 StartedAt: 2025-01-30 15:31:12 -0500 (Thu, 30 Jan 2025) EndedAt: 2025-01-30 15:39:04 -0500 (Thu, 30 Jan 2025) EllapsedTime: 472.0 seconds RetCode: 0 Status: OK