Package: Rbowtie2 Version: 2.12.3 Command: /home/biocbuild/bbs-3.20-bioc/R/bin/R CMD INSTALL Rbowtie2 StartedAt: 2025-01-30 15:17:20 -0500 (Thu, 30 Jan 2025) EndedAt: 2025-01-30 15:22:24 -0500 (Thu, 30 Jan 2025) EllapsedTime: 304.3 seconds RetCode: 0 Status: OK