Package: Rbowtie2 Version: 2.12.3 Command: chmod a+r Rbowtie2 -R && F:\biocbuild\bbs-3.20-bioc\R\bin\R.exe CMD build --keep-empty-dirs --no-resave-data Rbowtie2 StartedAt: 2025-01-30 21:16:54 -0500 (Thu, 30 Jan 2025) EndedAt: 2025-01-30 21:23:23 -0500 (Thu, 30 Jan 2025) EllapsedTime: 388.2 seconds RetCode: 0 Status: OK PackageFile: Rbowtie2_2.12.3.tar.gz PackageFileSize: 1.71 MiB