Package: Rbowtie2 Version: 2.12.3 Command: F:\biocbuild\bbs-3.20-bioc\R\bin\R.exe CMD INSTALL Rbowtie2 StartedAt: 2025-01-30 15:40:45 -0500 (Thu, 30 Jan 2025) EndedAt: 2025-01-30 15:45:44 -0500 (Thu, 30 Jan 2025) EllapsedTime: 299.5 seconds RetCode: 0 Status: OK