Package: Rbowtie2 Version: 2.12.3 Command: /home/biocbuild/R/R/bin/R CMD check --install=check:Rbowtie2.install-out.txt --library=/home/biocbuild/R/R/site-library --no-vignettes --timings Rbowtie2_2.12.3.tar.gz StartedAt: 2025-01-31 09:31:43 -0000 (Fri, 31 Jan 2025) EndedAt: 2025-01-31 09:32:11 -0000 (Fri, 31 Jan 2025) EllapsedTime: 28.0 seconds RetCode: 0 Status: OK CheckDir: Rbowtie2.Rcheck Warnings: 0