Package: Rbowtie2 Version: 2.12.3 Command: /home/biocbuild/R/R/bin/R CMD INSTALL Rbowtie2 StartedAt: 2025-01-30 20:22:03 -0000 (Thu, 30 Jan 2025) EndedAt: 2025-01-30 20:30:05 -0000 (Thu, 30 Jan 2025) EllapsedTime: 481.7 seconds RetCode: 0 Status: OK