Package: ReUseData Version: 1.6.0 Command: rm -rf ReUseData.buildbin-libdir && mkdir ReUseData.buildbin-libdir && /Users/biocbuild/BBS/utils/build-universal.sh ReUseData_1.6.0.tar.gz /Library/Frameworks/R.framework/Resources/bin/R ReUseData.buildbin-libdir StartedAt: 2025-02-05 17:23:03 -0500 (Wed, 05 Feb 2025) EndedAt: 2025-02-05 17:23:23 -0500 (Wed, 05 Feb 2025) EllapsedTime: 19.9 seconds RetCode: 0 Status: OK PackageFile: ReUseData_1.6.0.tgz PackageFileSize: 1.373 MiB