Package: ReUseData Version: 1.6.0 Command: /Library/Frameworks/R.framework/Resources/bin/R CMD build --keep-empty-dirs --no-resave-data ReUseData StartedAt: 2025-02-04 06:32:38 -0500 (Tue, 04 Feb 2025) EndedAt: 2025-02-04 06:33:44 -0500 (Tue, 04 Feb 2025) EllapsedTime: 66.2 seconds RetCode: 0 Status: OK PackageFile: ReUseData_1.6.0.tar.gz PackageFileSize: 915.3 KiB