Package: ReUseData Version: 1.6.0 Command: /Library/Frameworks/R.framework/Resources/bin/R CMD INSTALL ReUseData StartedAt: 2025-02-03 18:18:23 -0500 (Mon, 03 Feb 2025) EndedAt: 2025-02-03 18:18:41 -0500 (Mon, 03 Feb 2025) EllapsedTime: 17.5 seconds RetCode: 0 Status: OK