Package: ReUseData Version: 1.6.0 Command: /Library/Frameworks/R.framework/Resources/bin/R CMD build --keep-empty-dirs --no-resave-data ReUseData StartedAt: 2025-01-30 22:13:31 -0500 (Thu, 30 Jan 2025) EndedAt: 2025-01-30 22:15:27 -0500 (Thu, 30 Jan 2025) EllapsedTime: 115.5 seconds RetCode: 0 Status: OK PackageFile: ReUseData_1.6.0.tar.gz PackageFileSize: 915.4 KiB