Package: ReUseData Version: 1.6.0 Command: /Library/Frameworks/R.framework/Resources/bin/R CMD check --install=check:ReUseData.install-out.txt --library=/Library/Frameworks/R.framework/Resources/library --no-vignettes --timings ReUseData_1.6.0.tar.gz StartedAt: 2025-01-31 08:51:35 -0500 (Fri, 31 Jan 2025) EndedAt: 2025-01-31 08:55:55 -0500 (Fri, 31 Jan 2025) EllapsedTime: 260.4 seconds RetCode: 0 Status: OK CheckDir: ReUseData.Rcheck Warnings: 0