Package: ReUseData Version: 1.6.0 Command: /Library/Frameworks/R.framework/Resources/bin/R CMD INSTALL ReUseData StartedAt: 2025-01-30 16:47:15 -0500 (Thu, 30 Jan 2025) EndedAt: 2025-01-30 16:47:48 -0500 (Thu, 30 Jan 2025) EllapsedTime: 32.9 seconds RetCode: 0 Status: OK