Package: ReUseData Version: 1.6.0 Command: /home/biocbuild/bbs-3.20-bioc/R/bin/R CMD INSTALL ReUseData StartedAt: 2025-02-03 16:10:30 -0500 (Mon, 03 Feb 2025) EndedAt: 2025-02-03 16:10:45 -0500 (Mon, 03 Feb 2025) EllapsedTime: 15.2 seconds RetCode: 0 Status: OK