Package: ReUseData Version: 1.6.0 Command: /home/biocbuild/R/R/bin/R CMD check --install=check:ReUseData.install-out.txt --library=/home/biocbuild/R/R/site-library --no-vignettes --timings ReUseData_1.6.0.tar.gz StartedAt: 2025-02-04 10:21:12 -0000 (Tue, 04 Feb 2025) EndedAt: 2025-02-04 10:23:52 -0000 (Tue, 04 Feb 2025) EllapsedTime: 160.2 seconds RetCode: 0 Status: OK CheckDir: ReUseData.Rcheck Warnings: 0