Package: ReactomeGSA Version: 1.20.0 Command: /Library/Frameworks/R.framework/Resources/bin/R CMD INSTALL ReactomeGSA StartedAt: 2025-02-10 15:11:45 -0500 (Mon, 10 Feb 2025) EndedAt: 2025-02-10 15:12:05 -0500 (Mon, 10 Feb 2025) EllapsedTime: 20.0 seconds RetCode: 0 Status: OK