Package: ReactomeGSA Version: 1.20.0 Command: rm -rf ReactomeGSA.buildbin-libdir && mkdir ReactomeGSA.buildbin-libdir && F:\biocbuild\bbs-3.20-bioc\R\bin\R.exe CMD INSTALL --build --library=ReactomeGSA.buildbin-libdir ReactomeGSA_1.20.0.tar.gz StartedAt: 2025-02-04 09:18:04 -0500 (Tue, 04 Feb 2025) EndedAt: 2025-02-04 09:19:24 -0500 (Tue, 04 Feb 2025) EllapsedTime: 79.4 seconds RetCode: 0 Status: OK PackageFile: ReactomeGSA_1.20.0.zip PackageFileSize: 483.9 KiB