Package: ReactomeGSA Version: 1.20.0 Command: F:\biocbuild\bbs-3.20-bioc\R\bin\R.exe CMD INSTALL ReactomeGSA StartedAt: 2025-02-03 15:44:55 -0500 (Mon, 03 Feb 2025) EndedAt: 2025-02-03 15:45:50 -0500 (Mon, 03 Feb 2025) EllapsedTime: 54.3 seconds RetCode: 0 Status: OK