Package: ReactomeGSA Version: 1.20.0 Command: /home/biocbuild/R/R/bin/R CMD build --keep-empty-dirs --no-resave-data ReactomeGSA StartedAt: 2025-02-11 01:49:09 -0000 (Tue, 11 Feb 2025) EndedAt: 2025-02-11 01:53:48 -0000 (Tue, 11 Feb 2025) EllapsedTime: 279.1 seconds RetCode: 0 Status: OK PackageFile: ReactomeGSA_1.20.0.tar.gz PackageFileSize: 178.1 KiB