############################################################################## ############################################################################## ### ### Running command: ### ### /home/biocbuild/R/R/bin/R CMD check --install=check:ReactomeGSA.install-out.txt --library=/home/biocbuild/R/R/site-library --no-vignettes --timings ReactomeGSA_1.20.0.tar.gz ### ############################################################################## ############################################################################## * using log directory ‘/home/biocbuild/bbs-3.20-bioc/meat/ReactomeGSA.Rcheck’ * using R version 4.4.2 (2024-10-31) * using platform: aarch64-unknown-linux-gnu * R was compiled by aarch64-unknown-linux-gnu-gcc (GCC) 14.2.0 GNU Fortran (GCC) 12.3.1 (openEuler 12.3.1-36.oe2403) * running under: openEuler 24.03 (LTS) * using session charset: UTF-8 * using option ‘--no-vignettes’ * checking for file ‘ReactomeGSA/DESCRIPTION’ ... OK * checking extension type ... Package * this is package ‘ReactomeGSA’ version ‘1.20.0’ * package encoding: UTF-8 * checking package namespace information ... OK * checking package dependencies ... OK * checking if this is a source package ... OK * checking if there is a namespace ... OK * checking for hidden files and directories ... OK * checking for portable file names ... OK * checking for sufficient/correct file permissions ... OK * checking whether package ‘ReactomeGSA’ can be installed ... OK * checking installed package size ... OK * checking package directory ... OK * checking ‘build’ directory ... OK * checking DESCRIPTION meta-information ... OK * checking top-level files ... OK * checking for left-over files ... OK * checking index information ... OK * checking package subdirectories ... OK * checking code files for non-ASCII characters ... OK * checking R files for syntax errors ... OK * checking whether the package can be loaded ... OK * checking whether the package can be loaded with stated dependencies ... OK * checking whether the package can be unloaded cleanly ... OK * checking whether the namespace can be loaded with stated dependencies ... OK * checking whether the namespace can be unloaded cleanly ... OK * checking loading without being on the library search path ... OK * checking whether startup messages can be suppressed ... OK * checking dependencies in R code ... OK * checking S3 generic/method consistency ... OK * checking replacement functions ... OK * checking foreign function calls ... OK * checking R code for possible problems ... NOTE plot_correlations,ReactomeAnalysisResult: no visible binding for global variable ‘combined_sig’ plot_correlations,ReactomeAnalysisResult: no visible binding for global variable ‘alpha’ plot_gsva_pathway,ReactomeAnalysisResult: no visible binding for global variable ‘cluster_id’ plot_gsva_pathway,ReactomeAnalysisResult: no visible binding for global variable ‘expr’ plot_gsva_pca,ReactomeAnalysisResult: no visible binding for global variable ‘gsva_result’ plot_gsva_pca,ReactomeAnalysisResult: no visible binding for global variable ‘PC1’ plot_gsva_pca,ReactomeAnalysisResult: no visible binding for global variable ‘PC2’ plot_heatmap,ReactomeAnalysisResult: no visible global function definition for ‘desc’ plot_heatmap,ReactomeAnalysisResult: no visible binding for global variable ‘n_sig’ plot_heatmap,ReactomeAnalysisResult: no visible binding for global variable ‘dataset’ plot_heatmap,ReactomeAnalysisResult: no visible binding for global variable ‘Name’ plot_volcano,ReactomeAnalysisResult: no visible binding for global variable ‘av_foldchange’ plot_volcano,ReactomeAnalysisResult: no visible binding for global variable ‘FDR’ Undefined global functions or variables: FDR Name PC1 PC2 alpha av_foldchange cluster_id combined_sig dataset desc expr gsva_result n_sig * checking Rd files ... OK * checking Rd metadata ... OK * checking Rd cross-references ... OK * checking for missing documentation entries ... OK * checking for code/documentation mismatches ... OK * checking Rd \usage sections ... OK * checking Rd contents ... OK * checking for unstated dependencies in examples ... OK * checking files in ‘vignettes’ ... OK * checking examples ... OK Examples with CPU (user + system) or elapsed time > 5s user system elapsed plot_gsva_heatmap-ReactomeAnalysisResult-method 52.582 0.770 93.750 plot_gsva_heatmap 51.034 0.510 86.082 analyse_sc_clusters-Seurat-method 50.000 0.829 90.676 analyse_sc_clusters 49.791 0.626 87.472 plot_gsva_pca 49.869 0.470 91.318 plot_gsva_pathway-ReactomeAnalysisResult-method 49.922 0.299 86.256 analyse_sc_clusters-SingleCellExperiment-method 49.337 0.778 89.663 plot_gsva_pca-ReactomeAnalysisResult-method 48.770 1.072 85.405 plot_gsva_pathway 48.487 0.294 82.539 ReactomeAnalysisRequest 6.507 0.196 6.732 perform_reactome_analysis 4.543 0.243 56.838 load_public_dataset 2.221 0.115 42.498 find_public_datasets 0.249 0.012 6.977 * checking for unstated dependencies in ‘tests’ ... OK * checking tests ... Running ‘testthat.R’ OK * checking for unstated dependencies in vignettes ... OK * checking package vignettes ... OK * checking running R code from vignettes ... SKIPPED * checking re-building of vignette outputs ... SKIPPED * checking PDF version of manual ... OK * DONE Status: 1 NOTE See ‘/home/biocbuild/bbs-3.20-bioc/meat/ReactomeGSA.Rcheck/00check.log’ for details.