Package: ReactomeGSA Version: 1.20.0 Command: /home/biocbuild/R/R/bin/R CMD INSTALL ReactomeGSA StartedAt: 2025-02-10 20:16:36 -0000 (Mon, 10 Feb 2025) EndedAt: 2025-02-10 20:16:49 -0000 (Mon, 10 Feb 2025) EllapsedTime: 12.7 seconds RetCode: 0 Status: OK