Package: ReactomeGraph4R Version: 1.14.0 Command: rm -rf ReactomeGraph4R.buildbin-libdir && mkdir ReactomeGraph4R.buildbin-libdir && /Users/biocbuild/BBS/utils/build-universal.sh ReactomeGraph4R_1.14.0.tar.gz /Library/Frameworks/R.framework/Resources/bin/R ReactomeGraph4R.buildbin-libdir StartedAt: 2025-02-05 17:20:12 -0500 (Wed, 05 Feb 2025) EndedAt: 2025-02-05 17:20:18 -0500 (Wed, 05 Feb 2025) EllapsedTime: 6.9 seconds RetCode: 0 Status: OK PackageFile: ReactomeGraph4R_1.14.0.tgz PackageFileSize: 874.6 KiB