Package: ReactomeGraph4R Version: 1.14.0 Command: /Library/Frameworks/R.framework/Resources/bin/R CMD build --keep-empty-dirs --no-resave-data ReactomeGraph4R StartedAt: 2025-02-04 06:22:55 -0500 (Tue, 04 Feb 2025) EndedAt: 2025-02-04 06:23:16 -0500 (Tue, 04 Feb 2025) EllapsedTime: 20.4 seconds RetCode: 0 Status: OK PackageFile: ReactomeGraph4R_1.14.0.tar.gz PackageFileSize: 942.2 KiB