Package: ReactomeGraph4R Version: 1.14.0 Command: /Library/Frameworks/R.framework/Resources/bin/R CMD build --keep-empty-dirs --no-resave-data ReactomeGraph4R StartedAt: 2025-02-03 21:36:54 -0500 (Mon, 03 Feb 2025) EndedAt: 2025-02-03 21:37:23 -0500 (Mon, 03 Feb 2025) EllapsedTime: 28.8 seconds RetCode: 0 Status: OK PackageFile: ReactomeGraph4R_1.14.0.tar.gz PackageFileSize: 942.2 KiB