Package: ReactomeGraph4R Version: 1.14.0 Command: /Library/Frameworks/R.framework/Resources/bin/R CMD check --install=check:ReactomeGraph4R.install-out.txt --library=/Library/Frameworks/R.framework/Resources/library --no-vignettes --timings ReactomeGraph4R_1.14.0.tar.gz StartedAt: 2025-02-04 08:40:30 -0500 (Tue, 04 Feb 2025) EndedAt: 2025-02-04 08:41:53 -0500 (Tue, 04 Feb 2025) EllapsedTime: 82.6 seconds RetCode: 0 Status: OK CheckDir: ReactomeGraph4R.Rcheck Warnings: 0