Package: ReactomeGraph4R Version: 1.14.0 Command: /home/biocbuild/bbs-3.20-bioc/R/bin/R CMD INSTALL ReactomeGraph4R StartedAt: 2025-02-03 15:40:21 -0500 (Mon, 03 Feb 2025) EndedAt: 2025-02-03 15:40:26 -0500 (Mon, 03 Feb 2025) EllapsedTime: 5.5 seconds RetCode: 0 Status: OK