Package: ReactomeGraph4R Version: 1.14.0 Command: F:\biocbuild\bbs-3.20-bioc\R\bin\R.exe CMD INSTALL ReactomeGraph4R StartedAt: 2025-01-30 15:49:28 -0500 (Thu, 30 Jan 2025) EndedAt: 2025-01-30 15:50:31 -0500 (Thu, 30 Jan 2025) EllapsedTime: 62.9 seconds RetCode: 0 Status: OK