Package: ReactomeGraph4R Version: 1.14.0 Command: /home/biocbuild/R/R/bin/R CMD build --keep-empty-dirs --no-resave-data ReactomeGraph4R StartedAt: 2025-01-31 02:03:51 -0000 (Fri, 31 Jan 2025) EndedAt: 2025-01-31 02:04:08 -0000 (Fri, 31 Jan 2025) EllapsedTime: 17.0 seconds RetCode: 0 Status: OK PackageFile: ReactomeGraph4R_1.14.0.tar.gz PackageFileSize: 1.108 MiB