Package: ReadqPCR Version: 1.52.0 Command: rm -rf ReadqPCR.buildbin-libdir && mkdir ReadqPCR.buildbin-libdir && /Users/biocbuild/BBS/utils/build-universal.sh ReadqPCR_1.52.0.tar.gz /Library/Frameworks/R.framework/Resources/bin/R ReadqPCR.buildbin-libdir StartedAt: 2025-01-31 13:29:09 -0500 (Fri, 31 Jan 2025) EndedAt: 2025-01-31 13:29:18 -0500 (Fri, 31 Jan 2025) EllapsedTime: 8.8 seconds RetCode: 0 Status: OK PackageFile: ReadqPCR_1.52.0.tgz PackageFileSize: 567.5 KiB