Package: ReadqPCR Version: 1.52.0 Command: /Library/Frameworks/R.framework/Resources/bin/R CMD build --keep-empty-dirs --no-resave-data ReadqPCR StartedAt: 2025-02-03 21:36:59 -0500 (Mon, 03 Feb 2025) EndedAt: 2025-02-03 21:37:22 -0500 (Mon, 03 Feb 2025) EllapsedTime: 22.1 seconds RetCode: 0 Status: OK PackageFile: ReadqPCR_1.52.0.tar.gz PackageFileSize: 490.9 KiB