Package: ReadqPCR Version: 1.52.0 Command: rm -rf ReadqPCR.buildbin-libdir && mkdir ReadqPCR.buildbin-libdir && F:\biocbuild\bbs-3.20-bioc\R\bin\R.exe CMD INSTALL --build --library=ReadqPCR.buildbin-libdir ReadqPCR_1.52.0.tar.gz StartedAt: 2025-01-31 09:24:16 -0500 (Fri, 31 Jan 2025) EndedAt: 2025-01-31 09:24:33 -0500 (Fri, 31 Jan 2025) EllapsedTime: 16.8 seconds RetCode: 0 Status: OK PackageFile: ReadqPCR_1.52.0.zip PackageFileSize: 461.5 KiB