Package: ReadqPCR Version: 1.52.0 Command: chmod a+r ReadqPCR -R && F:\biocbuild\bbs-3.20-bioc\R\bin\R.exe CMD build --keep-empty-dirs --no-resave-data ReadqPCR StartedAt: 2025-01-30 21:19:38 -0500 (Thu, 30 Jan 2025) EndedAt: 2025-01-30 21:20:01 -0500 (Thu, 30 Jan 2025) EllapsedTime: 23.3 seconds RetCode: 0 Status: OK PackageFile: ReadqPCR_1.52.0.tar.gz PackageFileSize: 387.4 KiB