Package: RedisParam Version: 1.8.0 Command: /Library/Frameworks/R.framework/Resources/bin/R CMD INSTALL RedisParam StartedAt: 2025-01-30 15:53:38 -0500 (Thu, 30 Jan 2025) EndedAt: 2025-01-30 15:53:47 -0500 (Thu, 30 Jan 2025) EllapsedTime: 9.0 seconds RetCode: 0 Status: OK