Package: RedisParam Version: 1.8.0 Command: /home/biocbuild/bbs-3.20-bioc/R/bin/R CMD INSTALL RedisParam StartedAt: 2025-02-03 15:37:51 -0500 (Mon, 03 Feb 2025) EndedAt: 2025-02-03 15:37:55 -0500 (Mon, 03 Feb 2025) EllapsedTime: 3.8 seconds RetCode: 0 Status: OK