Package: RedisParam Version: 1.8.0 Command: rm -rf RedisParam.buildbin-libdir && mkdir RedisParam.buildbin-libdir && F:\biocbuild\bbs-3.20-bioc\R\bin\R.exe CMD INSTALL --build --library=RedisParam.buildbin-libdir RedisParam_1.8.0.tar.gz StartedAt: 2025-01-31 09:24:48 -0500 (Fri, 31 Jan 2025) EndedAt: 2025-01-31 09:25:36 -0500 (Fri, 31 Jan 2025) EllapsedTime: 47.9 seconds RetCode: 0 Status: OK PackageFile: RedisParam_1.8.0.zip PackageFileSize: 1024 KiB