Package: RedisParam Version: 1.8.0 Command: /home/biocbuild/R/R/bin/R CMD build --keep-empty-dirs --no-resave-data RedisParam StartedAt: 2025-01-31 02:04:54 -0000 (Fri, 31 Jan 2025) EndedAt: 2025-01-31 02:05:03 -0000 (Fri, 31 Jan 2025) EllapsedTime: 9.0 seconds RetCode: 0 Status: OK PackageFile: RedisParam_1.8.0.tar.gz PackageFileSize: 1001 KiB