Package: RedisParam Version: 1.8.0 Command: /home/biocbuild/R/R/bin/R CMD check --install=check:RedisParam.install-out.txt --library=/home/biocbuild/R/R/site-library --no-vignettes --timings RedisParam_1.8.0.tar.gz StartedAt: 2025-01-31 09:35:04 -0000 (Fri, 31 Jan 2025) EndedAt: 2025-01-31 09:35:30 -0000 (Fri, 31 Jan 2025) EllapsedTime: 26.0 seconds RetCode: 0 Status: OK CheckDir: RedisParam.Rcheck Warnings: 0