Package: RegionalST Version: 1.4.2 Command: /home/biocbuild/bbs-3.20-bioc/R/bin/R CMD INSTALL RegionalST StartedAt: 2025-01-30 16:02:51 -0500 (Thu, 30 Jan 2025) EndedAt: 2025-01-30 16:03:16 -0500 (Thu, 30 Jan 2025) EllapsedTime: 24.6 seconds RetCode: 0 Status: OK